BEGIN:VCALENDAR
VERSION:2.0
PRODID:-//Dulles Area Democrats - ECPv6.15.20//NONSGML v1.0//EN
CALSCALE:GREGORIAN
METHOD:PUBLISH
X-WR-CALNAME:Dulles Area Democrats
X-ORIGINAL-URL:https://dullesareademocrats.org
X-WR-CALDESC:Events for Dulles Area Democrats
REFRESH-INTERVAL;VALUE=DURATION:PT1H
X-Robots-Tag:noindex
X-PUBLISHED-TTL:PT1H
BEGIN:VTIMEZONE
TZID:America/New_York
BEGIN:DAYLIGHT
TZOFFSETFROM:-0500
TZOFFSETTO:-0400
TZNAME:EDT
DTSTART:20220313T070000
END:DAYLIGHT
BEGIN:STANDARD
TZOFFSETFROM:-0400
TZOFFSETTO:-0500
TZNAME:EST
DTSTART:20221106T060000
END:STANDARD
BEGIN:DAYLIGHT
TZOFFSETFROM:-0500
TZOFFSETTO:-0400
TZNAME:EDT
DTSTART:20230312T070000
END:DAYLIGHT
BEGIN:STANDARD
TZOFFSETFROM:-0400
TZOFFSETTO:-0500
TZNAME:EST
DTSTART:20231105T060000
END:STANDARD
BEGIN:DAYLIGHT
TZOFFSETFROM:-0500
TZOFFSETTO:-0400
TZNAME:EDT
DTSTART:20240310T070000
END:DAYLIGHT
BEGIN:STANDARD
TZOFFSETFROM:-0400
TZOFFSETTO:-0500
TZNAME:EST
DTSTART:20241103T060000
END:STANDARD
END:VTIMEZONE
BEGIN:VEVENT
DTSTART;TZID=America/New_York:20230522T073000
DTEND;TZID=America/New_York:20230522T090000
DTSTAMP:20260423T072318
CREATED:20230509T143702Z
LAST-MODIFIED:20230509T143859Z
UID:617-1684740600-1684746000@dullesareademocrats.org
SUMMARY:Breakfast - May 22\, 2023
DESCRIPTION:Virginia House of Delegates Outlook –  \nJoin Dulles Area Democrats for a breakfast panel with NOVA Delegates Dan Helmer\, David Reid & Irene Shin discussing what’s at stake this election year and strategies for taking back the VA House of Delegates \nMonday\, May 22\, 2023\nAmphora Diner 1151 Elden St.\, Herndon                                           \n7:30 AM: network\n8:00 AM: breakfast and speaker \nEmail allisondickert (AT) gmail.com for assistance.    –  download flyer
URL:https://dullesareademocrats.org/event/breakfast-may-2023/
LOCATION:Amphora Diner\, 1151 Elden St\, Herndon\, VA\, 20170
ATTACH;FMTTYPE=image/jpeg:https://dullesareademocrats.org/wp-content/uploads/2023/05/All-3.jpg
END:VEVENT
END:VCALENDAR