BEGIN:VCALENDAR
VERSION:2.0
PRODID:-//Dulles Area Democrats - ECPv6.15.20//NONSGML v1.0//EN
CALSCALE:GREGORIAN
METHOD:PUBLISH
X-ORIGINAL-URL:https://dullesareademocrats.org
X-WR-CALDESC:Events for Dulles Area Democrats
REFRESH-INTERVAL;VALUE=DURATION:PT1H
X-Robots-Tag:noindex
X-PUBLISHED-TTL:PT1H
BEGIN:VTIMEZONE
TZID:America/New_York
BEGIN:DAYLIGHT
TZOFFSETFROM:-0500
TZOFFSETTO:-0400
TZNAME:EDT
DTSTART:20240310T070000
END:DAYLIGHT
BEGIN:STANDARD
TZOFFSETFROM:-0400
TZOFFSETTO:-0500
TZNAME:EST
DTSTART:20241103T060000
END:STANDARD
BEGIN:DAYLIGHT
TZOFFSETFROM:-0500
TZOFFSETTO:-0400
TZNAME:EDT
DTSTART:20250309T070000
END:DAYLIGHT
BEGIN:STANDARD
TZOFFSETFROM:-0400
TZOFFSETTO:-0500
TZNAME:EST
DTSTART:20251102T060000
END:STANDARD
BEGIN:DAYLIGHT
TZOFFSETFROM:-0500
TZOFFSETTO:-0400
TZNAME:EDT
DTSTART:20260308T070000
END:DAYLIGHT
BEGIN:STANDARD
TZOFFSETFROM:-0400
TZOFFSETTO:-0500
TZNAME:EST
DTSTART:20261101T060000
END:STANDARD
END:VTIMEZONE
BEGIN:VEVENT
DTSTART;TZID=America/New_York:20250421T073000
DTEND;TZID=America/New_York:20250421T090000
DTSTAMP:20260419T205235
CREATED:20250403T021321Z
LAST-MODIFIED:20250403T021321Z
UID:747-1745220600-1745226000@dullesareademocrats.org
SUMMARY:Breakfast - Apr 2025
DESCRIPTION:Special Guest Speakers: Delegate Irene Shin\, Hon. Kyle McDaniel and Zack Golden\n\nTopic: Impact of Federal Administration Policies on our Democracy\, Rights and Communities\n\nJoin Delegate Irene Shin\, At-Large School Board member Kyle McDaniel and Zack Golden\, Senator Warner’s State Director\, for a discussion on the impact of the Trump 2.0 Administration on Virginia from the federal\, state and local perspective.\n\nTrump’s reckless attacks on the federal workforce and willful disregard of Constitutional law are imperiling family livelihoods\, individual rights and the very foundations of democracy. Come hear from our speakers on important issues affecting our community – the continued viability of critical social programs\, infringement of the rights of immigrants\, the hollowing out of public health and education plus attacks on the LGBTQIA community.\n\nSubmit breakfast questions to:info@dullesareademocrats.org
URL:https://dullesareademocrats.org/event/breakfast-apr-2025/
LOCATION:Jimmy’s Old Town Tavern\, 697 Spring St\, Herndon\, 697 Spring St\, Herndon\, VA\, United States
ATTACH;FMTTYPE=image/png:https://dullesareademocrats.org/wp-content/uploads/2025/04/Breakfast-Apr2025.png
END:VEVENT
END:VCALENDAR