BEGIN:VCALENDAR
VERSION:2.0
PRODID:-//Dulles Area Democrats - ECPv6.15.20//NONSGML v1.0//EN
CALSCALE:GREGORIAN
METHOD:PUBLISH
X-ORIGINAL-URL:https://dullesareademocrats.org
X-WR-CALDESC:Events for Dulles Area Democrats
REFRESH-INTERVAL;VALUE=DURATION:PT1H
X-Robots-Tag:noindex
X-PUBLISHED-TTL:PT1H
BEGIN:VTIMEZONE
TZID:America/New_York
BEGIN:DAYLIGHT
TZOFFSETFROM:-0500
TZOFFSETTO:-0400
TZNAME:EDT
DTSTART:20250309T070000
END:DAYLIGHT
BEGIN:STANDARD
TZOFFSETFROM:-0400
TZOFFSETTO:-0500
TZNAME:EST
DTSTART:20251102T060000
END:STANDARD
BEGIN:DAYLIGHT
TZOFFSETFROM:-0500
TZOFFSETTO:-0400
TZNAME:EDT
DTSTART:20260308T070000
END:DAYLIGHT
BEGIN:STANDARD
TZOFFSETFROM:-0400
TZOFFSETTO:-0500
TZNAME:EST
DTSTART:20261101T060000
END:STANDARD
BEGIN:DAYLIGHT
TZOFFSETFROM:-0500
TZOFFSETTO:-0400
TZNAME:EDT
DTSTART:20270314T070000
END:DAYLIGHT
BEGIN:STANDARD
TZOFFSETFROM:-0400
TZOFFSETTO:-0500
TZNAME:EST
DTSTART:20271107T060000
END:STANDARD
END:VTIMEZONE
BEGIN:VEVENT
DTSTART;TZID=America/New_York:20260216T073000
DTEND;TZID=America/New_York:20260216T090000
DTSTAMP:20260420T071316
CREATED:20260120T021345Z
LAST-MODIFIED:20260121T032108Z
UID:785-1771227000-1771232400@dullesareademocrats.org
SUMMARY:Breakfast - Feb 2026
DESCRIPTION:Guest Speakers: Walter Alcorn\, Jimmy Bierman\, Juli Briskman \nJoin DAD for a discussion with Fairfax and Loudoun County Supervisors about their local governments’ goals and benefits with our new state-wide majorities \nSubmit breakfast questions to: info@dullesareademocrats.org \nMonday\, February 16\, 2026 \nJimmy’s Old Town Tavern \n697 Spring St\, Herndon\, VA 20170                                       
URL:https://dullesareademocrats.org/event/breakfast-2026/
LOCATION:Jimmy’s Old Town Tavern\, 697 Spring St\, Herndon\, 697 Spring St\, Herndon\, VA\, United States
ATTACH;FMTTYPE=image/png:https://dullesareademocrats.org/wp-content/uploads/2026/01/Copy-of-DAD-Breakfast-Feb2026.png
END:VEVENT
BEGIN:VEVENT
DTSTART;TZID=America/New_York:20260330T073000
DTEND;TZID=America/New_York:20260330T090000
DTSTAMP:20260420T071316
CREATED:20260315T223328Z
LAST-MODIFIED:20260315T223328Z
UID:797-1774855800-1774861200@dullesareademocrats.org
SUMMARY:Breakfast - Mar 2026
DESCRIPTION:Guest Speakers:  VA Sen. Saddam Salim (37) and VA Del. JJ Singh (26) \nJoin DAD for a post–General Assembly session wrap-up with Sen.Salim and Del. Singh. Hear directly from these NOVA lawmakers as they reflect on the major outcomes of the 2026 Virginia legislative session\, discuss key policy debates that shaped the final days in Richmond\, and share what the session’s results mean for our region\, local communities\, and the work ahead. \nSubmit breakfast questions to: info@dullesareademocrats.org
URL:https://dullesareademocrats.org/event/breakfast-mar-2026/
LOCATION:Jimmy’s Old Town Tavern\, 697 Spring St\, Herndon\, 697 Spring St\, Herndon\, VA\, United States
ATTACH;FMTTYPE=image/png:https://dullesareademocrats.org/wp-content/uploads/2026/03/DAD-Breakfast-Mar2026.png
END:VEVENT
BEGIN:VEVENT
DTSTART;TZID=America/New_York:20260420T073000
DTEND;TZID=America/New_York:20260420T090000
DTSTAMP:20260420T071316
CREATED:20260410T143657Z
LAST-MODIFIED:20260410T151608Z
UID:802-1776670200-1776675600@dullesareademocrats.org
SUMMARY:Breakfast - Apr 2026
DESCRIPTION:Join DAD for our monthly breakfast featuring the chairs of the Fairfax County and Loudoun County Democratic Committees. The discussion will focus on the potential results of the redistricting referendum and plans for the upcoming campaign season. \nSubmit discussion questions to: info@dullesareademocrats.org
URL:https://dullesareademocrats.org/event/802/
LOCATION:Jimmy’s Old Town Tavern\, 697 Spring St\, Herndon\, 697 Spring St\, Herndon\, VA\, United States
ATTACH;FMTTYPE=image/png:https://dullesareademocrats.org/wp-content/uploads/2026/04/DAD-Breakfast-Apr2026-e1775834122753.png
END:VEVENT
END:VCALENDAR