BEGIN:VCALENDAR
VERSION:2.0
PRODID:-//Dulles Area Democrats - ECPv6.15.20//NONSGML v1.0//EN
CALSCALE:GREGORIAN
METHOD:PUBLISH
X-WR-CALNAME:Dulles Area Democrats
X-ORIGINAL-URL:https://dullesareademocrats.org
X-WR-CALDESC:Events for Dulles Area Democrats
REFRESH-INTERVAL;VALUE=DURATION:PT1H
X-Robots-Tag:noindex
X-PUBLISHED-TTL:PT1H
BEGIN:VTIMEZONE
TZID:America/New_York
BEGIN:DAYLIGHT
TZOFFSETFROM:-0500
TZOFFSETTO:-0400
TZNAME:EDT
DTSTART:20210314T070000
END:DAYLIGHT
BEGIN:STANDARD
TZOFFSETFROM:-0400
TZOFFSETTO:-0500
TZNAME:EST
DTSTART:20211107T060000
END:STANDARD
BEGIN:DAYLIGHT
TZOFFSETFROM:-0500
TZOFFSETTO:-0400
TZNAME:EDT
DTSTART:20220313T070000
END:DAYLIGHT
BEGIN:STANDARD
TZOFFSETFROM:-0400
TZOFFSETTO:-0500
TZNAME:EST
DTSTART:20221106T060000
END:STANDARD
BEGIN:DAYLIGHT
TZOFFSETFROM:-0500
TZOFFSETTO:-0400
TZNAME:EDT
DTSTART:20230312T070000
END:DAYLIGHT
BEGIN:STANDARD
TZOFFSETFROM:-0400
TZOFFSETTO:-0500
TZNAME:EST
DTSTART:20231105T060000
END:STANDARD
END:VTIMEZONE
BEGIN:VEVENT
DTSTART;TZID=America/New_York:20220523T033000
DTEND;TZID=America/New_York:20220523T050000
DTSTAMP:20260420T021559
CREATED:20220507T172806Z
LAST-MODIFIED:20220620T192424Z
UID:493-1653276600-1653282000@dullesareademocrats.org
SUMMARY:May Breakfast - US Rep Gerry Connolly
DESCRIPTION:Join us to welcome Congressman Gerry Connolly as he gives us a view from Capitol HIll on the important issues of the moment — the war in Ukraine\, the upcoming midterms\, and the prospect for further movement on President Biden’s economic plan.  Congressman Connolly sits on the House Committee on Foreign Affairs and the House Committee on Government Oversight and Reform where he chairs the Subcommittee on Government Operations. \n 
URL:https://dullesareademocrats.org/event/may-breakfast-us-rep-gerry-connolly/
LOCATION:Amphora Diner\, 1151 Elden St\, Herndon\, VA\, 20170
ATTACH;FMTTYPE=image/jpeg:https://dullesareademocrats.org/wp-content/uploads/2022/05/repconnolly.jpg
END:VEVENT
BEGIN:VEVENT
DTSTART;TZID=America/New_York:20220418T033000
DTEND;TZID=America/New_York:20220418T050000
DTSTAMP:20260420T021559
CREATED:20220329T073120Z
LAST-MODIFIED:20220329T074825Z
UID:446-1650252600-1650258000@dullesareademocrats.org
SUMMARY:April Breakfast "Public Education Challenges"
DESCRIPTION:Amphora Diner 1151 Elden St\, Herndon\n\n\nMonday\, April 18 – 7:30am network\, 8:00am breakfast Amphora Diner (1151 Elden St\, Herndon) Join Dulles Area Democrats and special guest speakers: \n\nAtoosa Reaser – Loudoun County School Board\nHolly Hazard – 4 Public Education\nPat Hynes – Stand and Deliver\nRachna Sizemore Heizer – Fairfax County School Board
URL:https://dullesareademocrats.org/event/april-breakfast-public-education-challenges/
LOCATION:Amphora Diner\, 1151 Elden St\, Herndon\, VA\, 20170
ATTACH;FMTTYPE=image/jpeg:https://dullesareademocrats.org/wp-content/uploads/2022/03/school-e1648524967439.jpg
END:VEVENT
BEGIN:VEVENT
DTSTART;TZID=America/New_York:20220321T073000
DTEND;TZID=America/New_York:20220321T090000
DTSTAMP:20260420T021559
CREATED:20220302T201351Z
LAST-MODIFIED:20220312T204324Z
UID:374-1647847800-1647853200@dullesareademocrats.org
SUMMARY:March Breakfast - "Holding the Blue Line"
DESCRIPTION:Monday\, Mar 21 – 7:30am network\, 8:00am breakfast\nAmphora Diner (1151 Elden St\, Herndon)\n\nJoin Dulles Area Democrats and special guest speakers\, VA State Senators Jennifer Boysko\, Scott Surovell & Barbara Favola \nRSVP: Dulles Area Democrats — Donate via ActBlue \n \n“Holding the Blue Line – a timely breakfast panel with our State Senators Jennifer Boysko\, Scott Surovell and Barbara Favola to update us on the recently concluded legislative session.
URL:https://dullesareademocrats.org/event/374/
LOCATION:Amphora Diner\, 1151 Elden St\, Herndon\, VA\, 20170
ATTACH;FMTTYPE=image/jpeg:https://dullesareademocrats.org/wp-content/uploads/2022/03/wll-names-combo.jpg
END:VEVENT
BEGIN:VEVENT
DTSTART;TZID=America/New_York:20220221T023000
DTEND;TZID=America/New_York:20220221T023000
DTSTAMP:20260420T021559
CREATED:20220215T233830Z
LAST-MODIFIED:20220302T210000Z
UID:296-1645410600-1645410600@dullesareademocrats.org
SUMMARY:Dulles Area Democrats Monthly Breakfast (Walter Alcorn)
DESCRIPTION:Monday\, Feb 21 at 7:30am\nAmphora Diner\, Herndon\n\nJoin Dulles Area Democrats and special guest speaker\, Hunter Mill District Supervisor Walter Alcorn. \nRSVP: https://secure.actblue.com/donate/februrary2022breakfast \n  \nThe Board of Supervisors (BoS) establishes county policies and ordinances\, sets local tax rates\, and approves budget and land use plans. Come find out how the BoS are addressing county priorities: education\, safe streets & neighborhoods\, protecting the environment\, affordable communities\, economy\, transportation\, and affordable taxes.\nThere will be a Q&A session. This is a great way to connect with Walter and discuss local issues and how he represents our interests on the Board of Supervisors.
URL:https://dullesareademocrats.org/event/296/
LOCATION:VA
ATTACH;FMTTYPE=image/jpeg:https://dullesareademocrats.org/wp-content/uploads/2022/02/Track_Walter-head-2-e1646236783807.jpg
END:VEVENT
END:VCALENDAR