BEGIN:VCALENDAR
VERSION:2.0
PRODID:-//Dulles Area Democrats - ECPv6.15.20//NONSGML v1.0//EN
CALSCALE:GREGORIAN
METHOD:PUBLISH
X-WR-CALNAME:Dulles Area Democrats
X-ORIGINAL-URL:https://dullesareademocrats.org
X-WR-CALDESC:Events for Dulles Area Democrats
REFRESH-INTERVAL;VALUE=DURATION:PT1H
X-Robots-Tag:noindex
X-PUBLISHED-TTL:PT1H
BEGIN:VTIMEZONE
TZID:America/New_York
BEGIN:DAYLIGHT
TZOFFSETFROM:-0500
TZOFFSETTO:-0400
TZNAME:EDT
DTSTART:20220313T070000
END:DAYLIGHT
BEGIN:STANDARD
TZOFFSETFROM:-0400
TZOFFSETTO:-0500
TZNAME:EST
DTSTART:20221106T060000
END:STANDARD
BEGIN:DAYLIGHT
TZOFFSETFROM:-0500
TZOFFSETTO:-0400
TZNAME:EDT
DTSTART:20230312T070000
END:DAYLIGHT
BEGIN:STANDARD
TZOFFSETFROM:-0400
TZOFFSETTO:-0500
TZNAME:EST
DTSTART:20231105T060000
END:STANDARD
BEGIN:DAYLIGHT
TZOFFSETFROM:-0500
TZOFFSETTO:-0400
TZNAME:EDT
DTSTART:20240310T070000
END:DAYLIGHT
BEGIN:STANDARD
TZOFFSETFROM:-0400
TZOFFSETTO:-0500
TZNAME:EST
DTSTART:20241103T060000
END:STANDARD
END:VTIMEZONE
BEGIN:VEVENT
DTSTART;TZID=America/New_York:20230918T073000
DTEND;TZID=America/New_York:20230918T090000
DTSTAMP:20260423T005853
CREATED:20230901T141540Z
LAST-MODIFIED:20230901T141634Z
UID:642-1695022200-1695027600@dullesareademocrats.org
SUMMARY:Breakfast - Septemper 2023
DESCRIPTION:September 2023 Breakfast – Commonwealth’s Attorneys and Dranesville Supervisor Candidate\n\nJoin DAD for breakfast and a panel about prioritizing public safety in our communities. Commonwealth’s Attorneys Steve Descano & Buta Biberaj to discuss justice reform measures implemented in Fairfax and Loudoun County during their first term in office. Dranesville District Supervisor candidate in Herndon Jimmy Bierman will discuss the Supervisor’s role in building a public safety infrastructure where all residents can feel safe and protected. \nMonday\, September 18\, 2023 \nJimmy’s Old Town Tavern\, 697 Spring St\, Herndon \n7:30 AM: network; 8:00 AM: breakfast and speaker \nEmail allisondickert (AT) gmail.com for assistance.
URL:https://dullesareademocrats.org/event/sep-2023-breakfast/
LOCATION:Jimmy’s Old Town Tavern\, 697 Spring St\, Herndon\, 697 Spring St\, Herndon\, VA\, United States
ATTACH;FMTTYPE=image/png:https://dullesareademocrats.org/wp-content/uploads/2023/09/DAD-Monthly-Breakfast-Sept-18_1ta54492.png
END:VEVENT
END:VCALENDAR