BEGIN:VCALENDAR
VERSION:2.0
PRODID:-//Dulles Area Democrats - ECPv6.15.20//NONSGML v1.0//EN
CALSCALE:GREGORIAN
METHOD:PUBLISH
X-ORIGINAL-URL:https://dullesareademocrats.org
X-WR-CALDESC:Events for Dulles Area Democrats
REFRESH-INTERVAL;VALUE=DURATION:PT1H
X-Robots-Tag:noindex
X-PUBLISHED-TTL:PT1H
BEGIN:VTIMEZONE
TZID:America/New_York
BEGIN:DAYLIGHT
TZOFFSETFROM:-0500
TZOFFSETTO:-0400
TZNAME:EDT
DTSTART:20240310T070000
END:DAYLIGHT
BEGIN:STANDARD
TZOFFSETFROM:-0400
TZOFFSETTO:-0500
TZNAME:EST
DTSTART:20241103T060000
END:STANDARD
BEGIN:DAYLIGHT
TZOFFSETFROM:-0500
TZOFFSETTO:-0400
TZNAME:EDT
DTSTART:20250309T070000
END:DAYLIGHT
BEGIN:STANDARD
TZOFFSETFROM:-0400
TZOFFSETTO:-0500
TZNAME:EST
DTSTART:20251102T060000
END:STANDARD
BEGIN:DAYLIGHT
TZOFFSETFROM:-0500
TZOFFSETTO:-0400
TZNAME:EDT
DTSTART:20260308T070000
END:DAYLIGHT
BEGIN:STANDARD
TZOFFSETFROM:-0400
TZOFFSETTO:-0500
TZNAME:EST
DTSTART:20261101T060000
END:STANDARD
END:VTIMEZONE
BEGIN:VEVENT
DTSTART;TZID=America/New_York:20250324T073000
DTEND;TZID=America/New_York:20250324T090000
DTSTAMP:20260419T205306
CREATED:20250303T141754Z
LAST-MODIFIED:20250303T142323Z
UID:742-1742801400-1742806800@dullesareademocrats.org
SUMMARY:Breakfast-March 2025
DESCRIPTION:Special Guests: Senator Saddam Azlan Salim and Delegate Josh Thomas \nTopic: VA General Assembly Debrief \nJoin DAD for our monthly breakfast with Special Guests Senator Saddam Azlan Salim and Delegate Joshua Thomas for a General Assembly debrief. The VA General Assembly convenes a 45-day session in odd numbered years to consider thousands of bills. Senator Salim and Delegate Thomas will discuss the three constitutional amendments central to the Democratic platform; the status of gun violence prevention bills and priority legislation; and topics of important local impact: affordable housing\, the casino\, data centers\, and mass surveillance. \nSenator Salim in his first term represents Fairfax City\, Falls Church City and parts of Fairfax including Tysons Corner. Delegate Josh Thomas in his first term represents part of Prince William County. He is running for re-election in the most competitive district in NoVA
URL:https://dullesareademocrats.org/event/breakfast-march-2025/
LOCATION:Jimmy’s Old Town Tavern\, 697 Spring St\, Herndon\, 697 Spring St\, Herndon\, VA\, United States
ATTACH;FMTTYPE=image/png:https://dullesareademocrats.org/wp-content/uploads/2025/03/Breakfast-Mar2025-Graphic.png
END:VEVENT
END:VCALENDAR